BEGIN:VCALENDAR
VERSION:2.0
PRODID:-//DASH Coordinating &amp; Marketing, LLC - ECPv6.15.20//NONSGML v1.0//EN
CALSCALE:GREGORIAN
METHOD:PUBLISH
X-WR-CALNAME:DASH Coordinating &amp; Marketing, LLC
X-ORIGINAL-URL:https://dashmarketingllc.com
X-WR-CALDESC:Events for DASH Coordinating &amp; Marketing, LLC
REFRESH-INTERVAL;VALUE=DURATION:PT1H
X-Robots-Tag:noindex
X-PUBLISHED-TTL:PT1H
BEGIN:VTIMEZONE
TZID:America/New_York
BEGIN:DAYLIGHT
TZOFFSETFROM:-0500
TZOFFSETTO:-0400
TZNAME:EDT
DTSTART:20250309T070000
END:DAYLIGHT
BEGIN:STANDARD
TZOFFSETFROM:-0400
TZOFFSETTO:-0500
TZNAME:EST
DTSTART:20251102T060000
END:STANDARD
BEGIN:DAYLIGHT
TZOFFSETFROM:-0500
TZOFFSETTO:-0400
TZNAME:EDT
DTSTART:20260308T070000
END:DAYLIGHT
BEGIN:STANDARD
TZOFFSETFROM:-0400
TZOFFSETTO:-0500
TZNAME:EST
DTSTART:20261101T060000
END:STANDARD
BEGIN:DAYLIGHT
TZOFFSETFROM:-0500
TZOFFSETTO:-0400
TZNAME:EDT
DTSTART:20270314T070000
END:DAYLIGHT
BEGIN:STANDARD
TZOFFSETFROM:-0400
TZOFFSETTO:-0500
TZNAME:EST
DTSTART:20271107T060000
END:STANDARD
END:VTIMEZONE
BEGIN:VEVENT
DTSTART;TZID=America/New_York:20260214T170000
DTEND;TZID=America/New_York:20260214T210000
DTSTAMP:20260425T000358
CREATED:20260127T181633Z
LAST-MODIFIED:20260203T141439Z
UID:89090-1771088400-1771102800@dashmarketingllc.com
SUMMARY:Black Love & Legacy Movie Night
DESCRIPTION:DASH COORDINATING & MARKETING PRESENTS… \nblack love & legacy\n\nMOVIE NIGHT\n\nSaturday\, February 14\, 2026  5:30 PM – 9:30 PM \n\n\nAdd to calendar \n  \n\nGoogle Calendar\niCalendar\nOutlook 365\nOutlook Live\n\nBoulevard at West River Greenway\n1345 W Main St.Tampa\,\nFL\n33607\nUnited States \n\n+ Google Map \n  \n\n \nJoin us for an evening celebrating Black love\, culture\, and legacy under the stars. \nEvent Highlights \n\nLocal Vendors\nValentine’s Day Photo Ops\nKids Arts & Crafts\nBlack History Storytelling – 6pm\nMovie on the Lawn\n\n6:30 PM – 9:00 PM\nMovie Title – “John Lewis: Good Trouble”\n\n\n\nWhat to Bring \n\nBlankets & Lawn Chairs\nYour Valentine\nFamily & Friends\n\nComplimentary Treats \n\nFree Hot Chocolate & Popcorn\n\nAll ages welcome. Admission is FREE. \nCome celebrate Black Love\, Legacy\, and Community – West River Style. \nRSVP\n\n\n\nMovie Night RSVP\n\n\n\n\n\n\nName\n*\n\n\nFirst\nLast Name\n\n\nLast\nEmail\n\n\nHow many guests will you be bringing?\n*\n\n\nAre you able to attend?\n*\n\n Yes\nCaptcha\n\nSubmit\n\n\nIf you are human\, leave this field blank.
URL:https://dashmarketingllc.com/event/blklovemovienight/
LOCATION:Boulevard at West River Greenway\, 1345 W Main St.\, Tampa\, FL\, 33607\, United States
ATTACH;FMTTYPE=image/jpeg:https://dashmarketingllc.com/wp-content/uploads/2026/01/movienight-1-scaled.jpg
END:VEVENT
BEGIN:VEVENT
DTSTART;TZID=America/New_York:20260405T110000
DTEND;TZID=America/New_York:20260405T153000
DTSTAMP:20260425T000358
CREATED:20260309T164109Z
LAST-MODIFIED:20260316T155504Z
UID:89192-1775386800-1775403000@dashmarketingllc.com
SUMMARY:West River Rise & Rejoice Easter Celebration
DESCRIPTION:Bring the entire family for a morning of worship\, fellowship\, and Easter celebration in the park. \nMorning worship will be led by Pastor Larry Hordge Sr. and Mt. Vernon Primitive Baptist Church congregations. Immediately following service guests will enjoy light bites\, a community easter egg hunt\, photos with the Easter bunny\, live entertainment and more!
URL:https://dashmarketingllc.com/event/west-river-rise-rejoice-easter-celebration/
LOCATION:West River Square\, 1502 W. Union St.\, Tampa\, FL\, 33607\, United States
CATEGORIES:Community Event
ATTACH;FMTTYPE=image/png:https://dashmarketingllc.com/wp-content/uploads/2026/03/Easter-1-scaled.png
END:VEVENT
END:VCALENDAR